BEGIN:VCALENDAR
VERSION:2.0
PRODID:-//wp-events-plugin.com//7.2.3.1//EN
BEGIN:VEVENT
UID:29@altstetten.ch
DTSTART;TZID=Europe/Zurich:20241004T160000
DTEND;TZID=Europe/Zurich:20241004T210000
DTSTAMP:20240916T080652Z
URL:https://altstetten.ch/events/herbstanlass-2024/
SUMMARY:Herbstanlass 2024
DESCRIPTION:Führung Energieverbund Altstetten und Höngg\nLiebe Gewerbleri
 nnen\, Gewerbler und Passivmitglieder\n\nWir freuen uns Sie zu einer Führ
 ung über den Energieverbund Altstetten und Höngg einzuladen. In den näc
 hsten Jahren werden wir in unserem Quartier auf den Strassen zahlreichen B
 austellen für\nFernwärmeleitungen begegnen. Was wird da genau gebaut\, w
 ie funktioniert der Verbund und woher kommt die Energie? Wir werden es am 
 Freitag 4. Oktober erfahren.\n\nProgramm\n• 16:00 Uhr Führung Energie
 verbund\, Besammlung vor dem Haupteingang der\nAbwasser­reiningungsanlage
  Werdhölzli\, Bändlistrasse 108\, 8064 Zürich\n• 17:45 Uhr Apéro
  in der Sportsbar 1930\nSwisslife Arena\, Vulkanstrasse 130\, 8048 Zürich
 \n• 18:30 Uhr 18:30 Abendessen im Restaurant ZETT\nSwisslife Arena\,
  Vulkanstrasse 130\, 8048 Zürich\n\nKostenbeteiligung\n30 Franken pro Per
 son\, per Überweisung vor dem Anlass an IBAN CH46 0070 0111 5002 1895 2 o
 der bar vor Ort\n\nDer Vorstand heisst die Mitglieder Altstetten-Grünau h
 erzlich willkommen und freut sich auf einen interessanten Anlass.\n\nWir f
 reuen uns auf Ihre Anmeldung.\n\nFreundliche Grüsse\nGewerbeverein Altste
 tten-Grünau Tobias Schärli\, Präsident
ATTACH;FMTTYPE=image/jpeg:https://altstetten.ch/wp-content/uploads/2023/11
 /werhoelzli.jpg
CATEGORIES:Event
END:VEVENT
BEGIN:VTIMEZONE
TZID:Europe/Zurich
X-LIC-LOCATION:Europe/Zurich
BEGIN:DAYLIGHT
DTSTART:20240331T030000
TZOFFSETFROM:+0100
TZOFFSETTO:+0200
TZNAME:CEST
END:DAYLIGHT
END:VTIMEZONE
END:VCALENDAR