BEGIN:VCALENDAR
VERSION:2.0
PRODID:-//wp-events-plugin.com//7.2.3.1//EN
BEGIN:VEVENT
UID:42@altstetten.ch
DTSTART:20250703T094500Z
DTEND:20250703T113000Z
DTSTAMP:20250603T145443Z
URL:https://altstetten.ch/events/businesslunch-13/
SUMMARY:Businesslunch
DESCRIPTION:Referent: Giuseppe Cristofaro\, Direktor Verkauf\, ISS Facility
  Services AG
ATTACH;FMTTYPE=image/jpeg:https://altstetten.ch/wp-content/uploads/2023/01
 /businesslunch.jpg
CATEGORIES:Event
LOCATION:Restaurant BUNT\, Vulkanplatz 2 (beim Bahnhof Altstetten)\, Züric
 h\, 8048\, Schweiz
X-APPLE-STRUCTURED-LOCATION;VALUE=URI;X-ADDRESS=Vulkanplatz 2 (beim Bahnhof
  Altstetten)\, Zürich\, 8048\, Schweiz;X-APPLE-RADIUS=100;X-TITLE=Restaur
 ant BUNT:geo:0,0
END:VEVENT
END:VCALENDAR